BEGIN:VCALENDAR
VERSION:2.0
PRODID:-//Lochiel Brewing - ECPv6.15.15//NONSGML v1.0//EN
CALSCALE:GREGORIAN
METHOD:PUBLISH
X-WR-CALNAME:Lochiel Brewing
X-ORIGINAL-URL:https://lochielbrewing.com
X-WR-CALDESC:Events for Lochiel Brewing
REFRESH-INTERVAL;VALUE=DURATION:PT1H
X-Robots-Tag:noindex
X-PUBLISHED-TTL:PT1H
BEGIN:VTIMEZONE
TZID:America/Phoenix
BEGIN:STANDARD
TZOFFSETFROM:-0700
TZOFFSETTO:-0700
TZNAME:MST
DTSTART:20250101T000000
END:STANDARD
END:VTIMEZONE
BEGIN:VEVENT
DTSTART;TZID=America/Phoenix:20261201T150000
DTEND;TZID=America/Phoenix:20261201T200000
DTSTAMP:20260423T144522
CREATED:20241217T211729Z
LAST-MODIFIED:20260117T160405Z
UID:10001792-1796137200-1796155200@lochielbrewing.com
SUMMARY:Public Hours
DESCRIPTION:We will be open for in-person drinking. First come first serve. Please respect our rules set forth here: Acknowledgments and Agreement.
URL:https://lochielbrewing.com/schedule/thursday-friday-series-2-2-2/2026-12-01/
LOCATION:Lochiel Brewing\, 7143 East Southern Avenue Ste 131\, Mesa\, AZ\, 85209\, United States
ORGANIZER;CN="Lochiel Brewing":MAILTO:contact@lochielbrewing.com
GEO:33.392364;-111.67687
X-APPLE-STRUCTURED-LOCATION;VALUE=URI;X-ADDRESS=Lochiel Brewing 7143 East Southern Avenue Ste 131 Mesa AZ 85209 United States;X-APPLE-RADIUS=500;X-TITLE=7143 East Southern Avenue Ste 131:geo:-111.67687,33.392364
END:VEVENT
BEGIN:VEVENT
DTSTART;TZID=America/Phoenix:20261202T150000
DTEND;TZID=America/Phoenix:20261202T200000
DTSTAMP:20260423T144522
CREATED:20241217T211729Z
LAST-MODIFIED:20260117T160405Z
UID:10001793-1796223600-1796241600@lochielbrewing.com
SUMMARY:Public Hours
DESCRIPTION:We will be open for in-person drinking. First come first serve. Please respect our rules set forth here: Acknowledgments and Agreement.
URL:https://lochielbrewing.com/schedule/thursday-friday-series-2-2-2/2026-12-02/
LOCATION:Lochiel Brewing\, 7143 East Southern Avenue Ste 131\, Mesa\, AZ\, 85209\, United States
ORGANIZER;CN="Lochiel Brewing":MAILTO:contact@lochielbrewing.com
GEO:33.392364;-111.67687
X-APPLE-STRUCTURED-LOCATION;VALUE=URI;X-ADDRESS=Lochiel Brewing 7143 East Southern Avenue Ste 131 Mesa AZ 85209 United States;X-APPLE-RADIUS=500;X-TITLE=7143 East Southern Avenue Ste 131:geo:-111.67687,33.392364
END:VEVENT
BEGIN:VEVENT
DTSTART;TZID=America/Phoenix:20261203T150000
DTEND;TZID=America/Phoenix:20261203T200000
DTSTAMP:20260423T144522
CREATED:20241217T211729Z
LAST-MODIFIED:20260117T160405Z
UID:10001794-1796310000-1796328000@lochielbrewing.com
SUMMARY:Public Hours
DESCRIPTION:We will be open for in-person drinking. First come first serve. Please respect our rules set forth here: Acknowledgments and Agreement.
URL:https://lochielbrewing.com/schedule/thursday-friday-series-2-2-2/2026-12-03/
LOCATION:Lochiel Brewing\, 7143 East Southern Avenue Ste 131\, Mesa\, AZ\, 85209\, United States
ORGANIZER;CN="Lochiel Brewing":MAILTO:contact@lochielbrewing.com
GEO:33.392364;-111.67687
X-APPLE-STRUCTURED-LOCATION;VALUE=URI;X-ADDRESS=Lochiel Brewing 7143 East Southern Avenue Ste 131 Mesa AZ 85209 United States;X-APPLE-RADIUS=500;X-TITLE=7143 East Southern Avenue Ste 131:geo:-111.67687,33.392364
END:VEVENT
BEGIN:VEVENT
DTSTART;TZID=America/Phoenix:20261204T150000
DTEND;TZID=America/Phoenix:20261204T200000
DTSTAMP:20260423T144522
CREATED:20241217T211729Z
LAST-MODIFIED:20260117T160405Z
UID:10001795-1796396400-1796414400@lochielbrewing.com
SUMMARY:Public Hours
DESCRIPTION:We will be open for in-person drinking. First come first serve. Please respect our rules set forth here: Acknowledgments and Agreement.
URL:https://lochielbrewing.com/schedule/thursday-friday-series-2-2-2/2026-12-04/
LOCATION:Lochiel Brewing\, 7143 East Southern Avenue Ste 131\, Mesa\, AZ\, 85209\, United States
ORGANIZER;CN="Lochiel Brewing":MAILTO:contact@lochielbrewing.com
GEO:33.392364;-111.67687
X-APPLE-STRUCTURED-LOCATION;VALUE=URI;X-ADDRESS=Lochiel Brewing 7143 East Southern Avenue Ste 131 Mesa AZ 85209 United States;X-APPLE-RADIUS=500;X-TITLE=7143 East Southern Avenue Ste 131:geo:-111.67687,33.392364
END:VEVENT
BEGIN:VEVENT
DTSTART;TZID=America/Phoenix:20261205T130000
DTEND;TZID=America/Phoenix:20261205T200000
DTSTAMP:20260423T144522
CREATED:20230320T172002Z
LAST-MODIFIED:20250518T192326Z
UID:10001435-1796475600-1796500800@lochielbrewing.com
SUMMARY:Public Hours
DESCRIPTION:We will be open for in-person drinking. First come first serve. Please respect our rules set forth here: Acknowledgments and Agreement.
URL:https://lochielbrewing.com/schedule/saturday-series-2-2/2026-12-05/
LOCATION:Lochiel Brewing\, 7143 East Southern Avenue Ste 131\, Mesa\, AZ\, 85209\, United States
ORGANIZER;CN="Lochiel Brewing":MAILTO:contact@lochielbrewing.com
GEO:33.392364;-111.67687
X-APPLE-STRUCTURED-LOCATION;VALUE=URI;X-ADDRESS=Lochiel Brewing 7143 East Southern Avenue Ste 131 Mesa AZ 85209 United States;X-APPLE-RADIUS=500;X-TITLE=7143 East Southern Avenue Ste 131:geo:-111.67687,33.392364
END:VEVENT
BEGIN:VEVENT
DTSTART;TZID=America/Phoenix:20261206T140000
DTEND;TZID=America/Phoenix:20261206T190000
DTSTAMP:20260423T144522
CREATED:20240103T171302Z
LAST-MODIFIED:20250518T192429Z
UID:10001521-1796565600-1796583600@lochielbrewing.com
SUMMARY:Public Hours
DESCRIPTION:We will be open for in-person drinking. First come first serve. Please respect our rules set forth here: Acknowledgments and Agreement.
URL:https://lochielbrewing.com/schedule/sunday-series-2-2-2-2/2026-12-06/
LOCATION:Lochiel Brewing\, 7143 East Southern Avenue Ste 131\, Mesa\, AZ\, 85209\, United States
ORGANIZER;CN="Lochiel Brewing":MAILTO:contact@lochielbrewing.com
GEO:33.392364;-111.67687
X-APPLE-STRUCTURED-LOCATION;VALUE=URI;X-ADDRESS=Lochiel Brewing 7143 East Southern Avenue Ste 131 Mesa AZ 85209 United States;X-APPLE-RADIUS=500;X-TITLE=7143 East Southern Avenue Ste 131:geo:-111.67687,33.392364
END:VEVENT
BEGIN:VEVENT
DTSTART;TZID=America/Phoenix:20261207T150000
DTEND;TZID=America/Phoenix:20261207T200000
DTSTAMP:20260423T144522
CREATED:20241217T211729Z
LAST-MODIFIED:20260117T160405Z
UID:10001796-1796655600-1796673600@lochielbrewing.com
SUMMARY:Public Hours
DESCRIPTION:We will be open for in-person drinking. First come first serve. Please respect our rules set forth here: Acknowledgments and Agreement.
URL:https://lochielbrewing.com/schedule/thursday-friday-series-2-2-2/2026-12-07/
LOCATION:Lochiel Brewing\, 7143 East Southern Avenue Ste 131\, Mesa\, AZ\, 85209\, United States
ORGANIZER;CN="Lochiel Brewing":MAILTO:contact@lochielbrewing.com
GEO:33.392364;-111.67687
X-APPLE-STRUCTURED-LOCATION;VALUE=URI;X-ADDRESS=Lochiel Brewing 7143 East Southern Avenue Ste 131 Mesa AZ 85209 United States;X-APPLE-RADIUS=500;X-TITLE=7143 East Southern Avenue Ste 131:geo:-111.67687,33.392364
END:VEVENT
BEGIN:VEVENT
DTSTART;TZID=America/Phoenix:20261208T150000
DTEND;TZID=America/Phoenix:20261208T200000
DTSTAMP:20260423T144522
CREATED:20241217T211729Z
LAST-MODIFIED:20260117T160405Z
UID:10001797-1796742000-1796760000@lochielbrewing.com
SUMMARY:Public Hours
DESCRIPTION:We will be open for in-person drinking. First come first serve. Please respect our rules set forth here: Acknowledgments and Agreement.
URL:https://lochielbrewing.com/schedule/thursday-friday-series-2-2-2/2026-12-08/
LOCATION:Lochiel Brewing\, 7143 East Southern Avenue Ste 131\, Mesa\, AZ\, 85209\, United States
ORGANIZER;CN="Lochiel Brewing":MAILTO:contact@lochielbrewing.com
GEO:33.392364;-111.67687
X-APPLE-STRUCTURED-LOCATION;VALUE=URI;X-ADDRESS=Lochiel Brewing 7143 East Southern Avenue Ste 131 Mesa AZ 85209 United States;X-APPLE-RADIUS=500;X-TITLE=7143 East Southern Avenue Ste 131:geo:-111.67687,33.392364
END:VEVENT
BEGIN:VEVENT
DTSTART;TZID=America/Phoenix:20261209T150000
DTEND;TZID=America/Phoenix:20261209T200000
DTSTAMP:20260423T144522
CREATED:20241217T211729Z
LAST-MODIFIED:20260117T160405Z
UID:10001798-1796828400-1796846400@lochielbrewing.com
SUMMARY:Public Hours
DESCRIPTION:We will be open for in-person drinking. First come first serve. Please respect our rules set forth here: Acknowledgments and Agreement.
URL:https://lochielbrewing.com/schedule/thursday-friday-series-2-2-2/2026-12-09/
LOCATION:Lochiel Brewing\, 7143 East Southern Avenue Ste 131\, Mesa\, AZ\, 85209\, United States
ORGANIZER;CN="Lochiel Brewing":MAILTO:contact@lochielbrewing.com
GEO:33.392364;-111.67687
X-APPLE-STRUCTURED-LOCATION;VALUE=URI;X-ADDRESS=Lochiel Brewing 7143 East Southern Avenue Ste 131 Mesa AZ 85209 United States;X-APPLE-RADIUS=500;X-TITLE=7143 East Southern Avenue Ste 131:geo:-111.67687,33.392364
END:VEVENT
BEGIN:VEVENT
DTSTART;TZID=America/Phoenix:20261210T150000
DTEND;TZID=America/Phoenix:20261210T200000
DTSTAMP:20260423T144522
CREATED:20241217T211729Z
LAST-MODIFIED:20260117T160405Z
UID:10001799-1796914800-1796932800@lochielbrewing.com
SUMMARY:Public Hours
DESCRIPTION:We will be open for in-person drinking. First come first serve. Please respect our rules set forth here: Acknowledgments and Agreement.
URL:https://lochielbrewing.com/schedule/thursday-friday-series-2-2-2/2026-12-10/
LOCATION:Lochiel Brewing\, 7143 East Southern Avenue Ste 131\, Mesa\, AZ\, 85209\, United States
ORGANIZER;CN="Lochiel Brewing":MAILTO:contact@lochielbrewing.com
GEO:33.392364;-111.67687
X-APPLE-STRUCTURED-LOCATION;VALUE=URI;X-ADDRESS=Lochiel Brewing 7143 East Southern Avenue Ste 131 Mesa AZ 85209 United States;X-APPLE-RADIUS=500;X-TITLE=7143 East Southern Avenue Ste 131:geo:-111.67687,33.392364
END:VEVENT
BEGIN:VEVENT
DTSTART;TZID=America/Phoenix:20261211T150000
DTEND;TZID=America/Phoenix:20261211T200000
DTSTAMP:20260423T144522
CREATED:20241217T211729Z
LAST-MODIFIED:20260117T160405Z
UID:10001800-1797001200-1797019200@lochielbrewing.com
SUMMARY:Public Hours
DESCRIPTION:We will be open for in-person drinking. First come first serve. Please respect our rules set forth here: Acknowledgments and Agreement.
URL:https://lochielbrewing.com/schedule/thursday-friday-series-2-2-2/2026-12-11/
LOCATION:Lochiel Brewing\, 7143 East Southern Avenue Ste 131\, Mesa\, AZ\, 85209\, United States
ORGANIZER;CN="Lochiel Brewing":MAILTO:contact@lochielbrewing.com
GEO:33.392364;-111.67687
X-APPLE-STRUCTURED-LOCATION;VALUE=URI;X-ADDRESS=Lochiel Brewing 7143 East Southern Avenue Ste 131 Mesa AZ 85209 United States;X-APPLE-RADIUS=500;X-TITLE=7143 East Southern Avenue Ste 131:geo:-111.67687,33.392364
END:VEVENT
BEGIN:VEVENT
DTSTART;TZID=America/Phoenix:20261212T130000
DTEND;TZID=America/Phoenix:20261212T200000
DTSTAMP:20260423T144522
CREATED:20230320T172002Z
LAST-MODIFIED:20250518T192326Z
UID:10001436-1797080400-1797105600@lochielbrewing.com
SUMMARY:Public Hours
DESCRIPTION:We will be open for in-person drinking. First come first serve. Please respect our rules set forth here: Acknowledgments and Agreement.
URL:https://lochielbrewing.com/schedule/saturday-series-2-2/2026-12-12/
LOCATION:Lochiel Brewing\, 7143 East Southern Avenue Ste 131\, Mesa\, AZ\, 85209\, United States
ORGANIZER;CN="Lochiel Brewing":MAILTO:contact@lochielbrewing.com
GEO:33.392364;-111.67687
X-APPLE-STRUCTURED-LOCATION;VALUE=URI;X-ADDRESS=Lochiel Brewing 7143 East Southern Avenue Ste 131 Mesa AZ 85209 United States;X-APPLE-RADIUS=500;X-TITLE=7143 East Southern Avenue Ste 131:geo:-111.67687,33.392364
END:VEVENT
BEGIN:VEVENT
DTSTART;TZID=America/Phoenix:20261213T140000
DTEND;TZID=America/Phoenix:20261213T190000
DTSTAMP:20260423T144522
CREATED:20240103T171302Z
LAST-MODIFIED:20250518T192429Z
UID:10001522-1797170400-1797188400@lochielbrewing.com
SUMMARY:Public Hours
DESCRIPTION:We will be open for in-person drinking. First come first serve. Please respect our rules set forth here: Acknowledgments and Agreement.
URL:https://lochielbrewing.com/schedule/sunday-series-2-2-2-2/2026-12-13/
LOCATION:Lochiel Brewing\, 7143 East Southern Avenue Ste 131\, Mesa\, AZ\, 85209\, United States
ORGANIZER;CN="Lochiel Brewing":MAILTO:contact@lochielbrewing.com
GEO:33.392364;-111.67687
X-APPLE-STRUCTURED-LOCATION;VALUE=URI;X-ADDRESS=Lochiel Brewing 7143 East Southern Avenue Ste 131 Mesa AZ 85209 United States;X-APPLE-RADIUS=500;X-TITLE=7143 East Southern Avenue Ste 131:geo:-111.67687,33.392364
END:VEVENT
BEGIN:VEVENT
DTSTART;TZID=America/Phoenix:20261214T150000
DTEND;TZID=America/Phoenix:20261214T200000
DTSTAMP:20260423T144522
CREATED:20241217T211729Z
LAST-MODIFIED:20260117T160405Z
UID:10001801-1797260400-1797278400@lochielbrewing.com
SUMMARY:Public Hours
DESCRIPTION:We will be open for in-person drinking. First come first serve. Please respect our rules set forth here: Acknowledgments and Agreement.
URL:https://lochielbrewing.com/schedule/thursday-friday-series-2-2-2/2026-12-14/
LOCATION:Lochiel Brewing\, 7143 East Southern Avenue Ste 131\, Mesa\, AZ\, 85209\, United States
ORGANIZER;CN="Lochiel Brewing":MAILTO:contact@lochielbrewing.com
GEO:33.392364;-111.67687
X-APPLE-STRUCTURED-LOCATION;VALUE=URI;X-ADDRESS=Lochiel Brewing 7143 East Southern Avenue Ste 131 Mesa AZ 85209 United States;X-APPLE-RADIUS=500;X-TITLE=7143 East Southern Avenue Ste 131:geo:-111.67687,33.392364
END:VEVENT
BEGIN:VEVENT
DTSTART;TZID=America/Phoenix:20261215T150000
DTEND;TZID=America/Phoenix:20261215T200000
DTSTAMP:20260423T144522
CREATED:20241217T211729Z
LAST-MODIFIED:20260117T160405Z
UID:10001802-1797346800-1797364800@lochielbrewing.com
SUMMARY:Public Hours
DESCRIPTION:We will be open for in-person drinking. First come first serve. Please respect our rules set forth here: Acknowledgments and Agreement.
URL:https://lochielbrewing.com/schedule/thursday-friday-series-2-2-2/2026-12-15/
LOCATION:Lochiel Brewing\, 7143 East Southern Avenue Ste 131\, Mesa\, AZ\, 85209\, United States
ORGANIZER;CN="Lochiel Brewing":MAILTO:contact@lochielbrewing.com
GEO:33.392364;-111.67687
X-APPLE-STRUCTURED-LOCATION;VALUE=URI;X-ADDRESS=Lochiel Brewing 7143 East Southern Avenue Ste 131 Mesa AZ 85209 United States;X-APPLE-RADIUS=500;X-TITLE=7143 East Southern Avenue Ste 131:geo:-111.67687,33.392364
END:VEVENT
BEGIN:VEVENT
DTSTART;TZID=America/Phoenix:20261216T150000
DTEND;TZID=America/Phoenix:20261216T200000
DTSTAMP:20260423T144522
CREATED:20241217T211729Z
LAST-MODIFIED:20260117T160405Z
UID:10001803-1797433200-1797451200@lochielbrewing.com
SUMMARY:Public Hours
DESCRIPTION:We will be open for in-person drinking. First come first serve. Please respect our rules set forth here: Acknowledgments and Agreement.
URL:https://lochielbrewing.com/schedule/thursday-friday-series-2-2-2/2026-12-16/
LOCATION:Lochiel Brewing\, 7143 East Southern Avenue Ste 131\, Mesa\, AZ\, 85209\, United States
ORGANIZER;CN="Lochiel Brewing":MAILTO:contact@lochielbrewing.com
GEO:33.392364;-111.67687
X-APPLE-STRUCTURED-LOCATION;VALUE=URI;X-ADDRESS=Lochiel Brewing 7143 East Southern Avenue Ste 131 Mesa AZ 85209 United States;X-APPLE-RADIUS=500;X-TITLE=7143 East Southern Avenue Ste 131:geo:-111.67687,33.392364
END:VEVENT
BEGIN:VEVENT
DTSTART;TZID=America/Phoenix:20261217T150000
DTEND;TZID=America/Phoenix:20261217T200000
DTSTAMP:20260423T144522
CREATED:20241217T211729Z
LAST-MODIFIED:20260117T160405Z
UID:10001804-1797519600-1797537600@lochielbrewing.com
SUMMARY:Public Hours
DESCRIPTION:We will be open for in-person drinking. First come first serve. Please respect our rules set forth here: Acknowledgments and Agreement.
URL:https://lochielbrewing.com/schedule/thursday-friday-series-2-2-2/2026-12-17/
LOCATION:Lochiel Brewing\, 7143 East Southern Avenue Ste 131\, Mesa\, AZ\, 85209\, United States
ORGANIZER;CN="Lochiel Brewing":MAILTO:contact@lochielbrewing.com
GEO:33.392364;-111.67687
X-APPLE-STRUCTURED-LOCATION;VALUE=URI;X-ADDRESS=Lochiel Brewing 7143 East Southern Avenue Ste 131 Mesa AZ 85209 United States;X-APPLE-RADIUS=500;X-TITLE=7143 East Southern Avenue Ste 131:geo:-111.67687,33.392364
END:VEVENT
BEGIN:VEVENT
DTSTART;TZID=America/Phoenix:20261218T150000
DTEND;TZID=America/Phoenix:20261218T200000
DTSTAMP:20260423T144522
CREATED:20241217T211729Z
LAST-MODIFIED:20260117T160405Z
UID:10001805-1797606000-1797624000@lochielbrewing.com
SUMMARY:Public Hours
DESCRIPTION:We will be open for in-person drinking. First come first serve. Please respect our rules set forth here: Acknowledgments and Agreement.
URL:https://lochielbrewing.com/schedule/thursday-friday-series-2-2-2/2026-12-18/
LOCATION:Lochiel Brewing\, 7143 East Southern Avenue Ste 131\, Mesa\, AZ\, 85209\, United States
ORGANIZER;CN="Lochiel Brewing":MAILTO:contact@lochielbrewing.com
GEO:33.392364;-111.67687
X-APPLE-STRUCTURED-LOCATION;VALUE=URI;X-ADDRESS=Lochiel Brewing 7143 East Southern Avenue Ste 131 Mesa AZ 85209 United States;X-APPLE-RADIUS=500;X-TITLE=7143 East Southern Avenue Ste 131:geo:-111.67687,33.392364
END:VEVENT
BEGIN:VEVENT
DTSTART;TZID=America/Phoenix:20261219T130000
DTEND;TZID=America/Phoenix:20261219T200000
DTSTAMP:20260423T144522
CREATED:20230320T172002Z
LAST-MODIFIED:20250518T192326Z
UID:10001437-1797685200-1797710400@lochielbrewing.com
SUMMARY:Public Hours
DESCRIPTION:We will be open for in-person drinking. First come first serve. Please respect our rules set forth here: Acknowledgments and Agreement.
URL:https://lochielbrewing.com/schedule/saturday-series-2-2/2026-12-19/
LOCATION:Lochiel Brewing\, 7143 East Southern Avenue Ste 131\, Mesa\, AZ\, 85209\, United States
ORGANIZER;CN="Lochiel Brewing":MAILTO:contact@lochielbrewing.com
GEO:33.392364;-111.67687
X-APPLE-STRUCTURED-LOCATION;VALUE=URI;X-ADDRESS=Lochiel Brewing 7143 East Southern Avenue Ste 131 Mesa AZ 85209 United States;X-APPLE-RADIUS=500;X-TITLE=7143 East Southern Avenue Ste 131:geo:-111.67687,33.392364
END:VEVENT
BEGIN:VEVENT
DTSTART;TZID=America/Phoenix:20261220T140000
DTEND;TZID=America/Phoenix:20261220T190000
DTSTAMP:20260423T144522
CREATED:20240103T171302Z
LAST-MODIFIED:20250518T192429Z
UID:10001523-1797775200-1797793200@lochielbrewing.com
SUMMARY:Public Hours
DESCRIPTION:We will be open for in-person drinking. First come first serve. Please respect our rules set forth here: Acknowledgments and Agreement.
URL:https://lochielbrewing.com/schedule/sunday-series-2-2-2-2/2026-12-20/
LOCATION:Lochiel Brewing\, 7143 East Southern Avenue Ste 131\, Mesa\, AZ\, 85209\, United States
ORGANIZER;CN="Lochiel Brewing":MAILTO:contact@lochielbrewing.com
GEO:33.392364;-111.67687
X-APPLE-STRUCTURED-LOCATION;VALUE=URI;X-ADDRESS=Lochiel Brewing 7143 East Southern Avenue Ste 131 Mesa AZ 85209 United States;X-APPLE-RADIUS=500;X-TITLE=7143 East Southern Avenue Ste 131:geo:-111.67687,33.392364
END:VEVENT
BEGIN:VEVENT
DTSTART;TZID=America/Phoenix:20261221T150000
DTEND;TZID=America/Phoenix:20261221T200000
DTSTAMP:20260423T144522
CREATED:20241217T211729Z
LAST-MODIFIED:20260117T160405Z
UID:10001806-1797865200-1797883200@lochielbrewing.com
SUMMARY:Public Hours
DESCRIPTION:We will be open for in-person drinking. First come first serve. Please respect our rules set forth here: Acknowledgments and Agreement.
URL:https://lochielbrewing.com/schedule/thursday-friday-series-2-2-2/2026-12-21/
LOCATION:Lochiel Brewing\, 7143 East Southern Avenue Ste 131\, Mesa\, AZ\, 85209\, United States
ORGANIZER;CN="Lochiel Brewing":MAILTO:contact@lochielbrewing.com
GEO:33.392364;-111.67687
X-APPLE-STRUCTURED-LOCATION;VALUE=URI;X-ADDRESS=Lochiel Brewing 7143 East Southern Avenue Ste 131 Mesa AZ 85209 United States;X-APPLE-RADIUS=500;X-TITLE=7143 East Southern Avenue Ste 131:geo:-111.67687,33.392364
END:VEVENT
BEGIN:VEVENT
DTSTART;TZID=America/Phoenix:20261222T150000
DTEND;TZID=America/Phoenix:20261222T200000
DTSTAMP:20260423T144522
CREATED:20241217T211729Z
LAST-MODIFIED:20260117T160405Z
UID:10001807-1797951600-1797969600@lochielbrewing.com
SUMMARY:Public Hours
DESCRIPTION:We will be open for in-person drinking. First come first serve. Please respect our rules set forth here: Acknowledgments and Agreement.
URL:https://lochielbrewing.com/schedule/thursday-friday-series-2-2-2/2026-12-22/
LOCATION:Lochiel Brewing\, 7143 East Southern Avenue Ste 131\, Mesa\, AZ\, 85209\, United States
ORGANIZER;CN="Lochiel Brewing":MAILTO:contact@lochielbrewing.com
GEO:33.392364;-111.67687
X-APPLE-STRUCTURED-LOCATION;VALUE=URI;X-ADDRESS=Lochiel Brewing 7143 East Southern Avenue Ste 131 Mesa AZ 85209 United States;X-APPLE-RADIUS=500;X-TITLE=7143 East Southern Avenue Ste 131:geo:-111.67687,33.392364
END:VEVENT
BEGIN:VEVENT
DTSTART;TZID=America/Phoenix:20261223T150000
DTEND;TZID=America/Phoenix:20261223T200000
DTSTAMP:20260423T144522
CREATED:20241217T211729Z
LAST-MODIFIED:20260117T160405Z
UID:10001808-1798038000-1798056000@lochielbrewing.com
SUMMARY:Public Hours
DESCRIPTION:We will be open for in-person drinking. First come first serve. Please respect our rules set forth here: Acknowledgments and Agreement.
URL:https://lochielbrewing.com/schedule/thursday-friday-series-2-2-2/2026-12-23/
LOCATION:Lochiel Brewing\, 7143 East Southern Avenue Ste 131\, Mesa\, AZ\, 85209\, United States
ORGANIZER;CN="Lochiel Brewing":MAILTO:contact@lochielbrewing.com
GEO:33.392364;-111.67687
X-APPLE-STRUCTURED-LOCATION;VALUE=URI;X-ADDRESS=Lochiel Brewing 7143 East Southern Avenue Ste 131 Mesa AZ 85209 United States;X-APPLE-RADIUS=500;X-TITLE=7143 East Southern Avenue Ste 131:geo:-111.67687,33.392364
END:VEVENT
BEGIN:VEVENT
DTSTART;TZID=America/Phoenix:20261224T150000
DTEND;TZID=America/Phoenix:20261224T200000
DTSTAMP:20260423T144522
CREATED:20241217T211729Z
LAST-MODIFIED:20260117T160405Z
UID:10001809-1798124400-1798142400@lochielbrewing.com
SUMMARY:Public Hours
DESCRIPTION:We will be open for in-person drinking. First come first serve. Please respect our rules set forth here: Acknowledgments and Agreement.
URL:https://lochielbrewing.com/schedule/thursday-friday-series-2-2-2/2026-12-24/
LOCATION:Lochiel Brewing\, 7143 East Southern Avenue Ste 131\, Mesa\, AZ\, 85209\, United States
ORGANIZER;CN="Lochiel Brewing":MAILTO:contact@lochielbrewing.com
GEO:33.392364;-111.67687
X-APPLE-STRUCTURED-LOCATION;VALUE=URI;X-ADDRESS=Lochiel Brewing 7143 East Southern Avenue Ste 131 Mesa AZ 85209 United States;X-APPLE-RADIUS=500;X-TITLE=7143 East Southern Avenue Ste 131:geo:-111.67687,33.392364
END:VEVENT
BEGIN:VEVENT
DTSTART;TZID=America/Phoenix:20261225T150000
DTEND;TZID=America/Phoenix:20261225T200000
DTSTAMP:20260423T144522
CREATED:20241217T211729Z
LAST-MODIFIED:20260117T160405Z
UID:10001810-1798210800-1798228800@lochielbrewing.com
SUMMARY:Public Hours
DESCRIPTION:We will be open for in-person drinking. First come first serve. Please respect our rules set forth here: Acknowledgments and Agreement.
URL:https://lochielbrewing.com/schedule/thursday-friday-series-2-2-2/2026-12-25/
LOCATION:Lochiel Brewing\, 7143 East Southern Avenue Ste 131\, Mesa\, AZ\, 85209\, United States
ORGANIZER;CN="Lochiel Brewing":MAILTO:contact@lochielbrewing.com
GEO:33.392364;-111.67687
X-APPLE-STRUCTURED-LOCATION;VALUE=URI;X-ADDRESS=Lochiel Brewing 7143 East Southern Avenue Ste 131 Mesa AZ 85209 United States;X-APPLE-RADIUS=500;X-TITLE=7143 East Southern Avenue Ste 131:geo:-111.67687,33.392364
END:VEVENT
BEGIN:VEVENT
DTSTART;TZID=America/Phoenix:20261228T150000
DTEND;TZID=America/Phoenix:20261228T200000
DTSTAMP:20260423T144522
CREATED:20241217T211729Z
LAST-MODIFIED:20260117T160405Z
UID:10001811-1798470000-1798488000@lochielbrewing.com
SUMMARY:Public Hours
DESCRIPTION:We will be open for in-person drinking. First come first serve. Please respect our rules set forth here: Acknowledgments and Agreement.
URL:https://lochielbrewing.com/schedule/thursday-friday-series-2-2-2/2026-12-28/
LOCATION:Lochiel Brewing\, 7143 East Southern Avenue Ste 131\, Mesa\, AZ\, 85209\, United States
ORGANIZER;CN="Lochiel Brewing":MAILTO:contact@lochielbrewing.com
GEO:33.392364;-111.67687
X-APPLE-STRUCTURED-LOCATION;VALUE=URI;X-ADDRESS=Lochiel Brewing 7143 East Southern Avenue Ste 131 Mesa AZ 85209 United States;X-APPLE-RADIUS=500;X-TITLE=7143 East Southern Avenue Ste 131:geo:-111.67687,33.392364
END:VEVENT
BEGIN:VEVENT
DTSTART;TZID=America/Phoenix:20261229T150000
DTEND;TZID=America/Phoenix:20261229T200000
DTSTAMP:20260423T144522
CREATED:20241217T211729Z
LAST-MODIFIED:20260117T160405Z
UID:10001812-1798556400-1798574400@lochielbrewing.com
SUMMARY:Public Hours
DESCRIPTION:We will be open for in-person drinking. First come first serve. Please respect our rules set forth here: Acknowledgments and Agreement.
URL:https://lochielbrewing.com/schedule/thursday-friday-series-2-2-2/2026-12-29/
LOCATION:Lochiel Brewing\, 7143 East Southern Avenue Ste 131\, Mesa\, AZ\, 85209\, United States
ORGANIZER;CN="Lochiel Brewing":MAILTO:contact@lochielbrewing.com
GEO:33.392364;-111.67687
X-APPLE-STRUCTURED-LOCATION;VALUE=URI;X-ADDRESS=Lochiel Brewing 7143 East Southern Avenue Ste 131 Mesa AZ 85209 United States;X-APPLE-RADIUS=500;X-TITLE=7143 East Southern Avenue Ste 131:geo:-111.67687,33.392364
END:VEVENT
BEGIN:VEVENT
DTSTART;TZID=America/Phoenix:20261230T150000
DTEND;TZID=America/Phoenix:20261230T200000
DTSTAMP:20260423T144522
CREATED:20241217T211729Z
LAST-MODIFIED:20260117T160405Z
UID:10001813-1798642800-1798660800@lochielbrewing.com
SUMMARY:Public Hours
DESCRIPTION:We will be open for in-person drinking. First come first serve. Please respect our rules set forth here: Acknowledgments and Agreement.
URL:https://lochielbrewing.com/schedule/thursday-friday-series-2-2-2/2026-12-30/
LOCATION:Lochiel Brewing\, 7143 East Southern Avenue Ste 131\, Mesa\, AZ\, 85209\, United States
ORGANIZER;CN="Lochiel Brewing":MAILTO:contact@lochielbrewing.com
GEO:33.392364;-111.67687
X-APPLE-STRUCTURED-LOCATION;VALUE=URI;X-ADDRESS=Lochiel Brewing 7143 East Southern Avenue Ste 131 Mesa AZ 85209 United States;X-APPLE-RADIUS=500;X-TITLE=7143 East Southern Avenue Ste 131:geo:-111.67687,33.392364
END:VEVENT
BEGIN:VEVENT
DTSTART;TZID=America/Phoenix:20261231T150000
DTEND;TZID=America/Phoenix:20261231T200000
DTSTAMP:20260423T144522
CREATED:20241217T211729Z
LAST-MODIFIED:20260117T160405Z
UID:10001814-1798729200-1798747200@lochielbrewing.com
SUMMARY:Public Hours
DESCRIPTION:We will be open for in-person drinking. First come first serve. Please respect our rules set forth here: Acknowledgments and Agreement.
URL:https://lochielbrewing.com/schedule/thursday-friday-series-2-2-2/2026-12-31/
LOCATION:Lochiel Brewing\, 7143 East Southern Avenue Ste 131\, Mesa\, AZ\, 85209\, United States
ORGANIZER;CN="Lochiel Brewing":MAILTO:contact@lochielbrewing.com
GEO:33.392364;-111.67687
X-APPLE-STRUCTURED-LOCATION;VALUE=URI;X-ADDRESS=Lochiel Brewing 7143 East Southern Avenue Ste 131 Mesa AZ 85209 United States;X-APPLE-RADIUS=500;X-TITLE=7143 East Southern Avenue Ste 131:geo:-111.67687,33.392364
END:VEVENT
BEGIN:VEVENT
DTSTART;TZID=America/Phoenix:20270101T150000
DTEND;TZID=America/Phoenix:20270101T200000
DTSTAMP:20260423T144522
CREATED:20241217T211729Z
LAST-MODIFIED:20260117T160405Z
UID:10001815-1798815600-1798833600@lochielbrewing.com
SUMMARY:Public Hours
DESCRIPTION:We will be open for in-person drinking. First come first serve. Please respect our rules set forth here: Acknowledgments and Agreement.
URL:https://lochielbrewing.com/schedule/thursday-friday-series-2-2-2/2027-01-01/
LOCATION:Lochiel Brewing\, 7143 East Southern Avenue Ste 131\, Mesa\, AZ\, 85209\, United States
ORGANIZER;CN="Lochiel Brewing":MAILTO:contact@lochielbrewing.com
GEO:33.392364;-111.67687
X-APPLE-STRUCTURED-LOCATION;VALUE=URI;X-ADDRESS=Lochiel Brewing 7143 East Southern Avenue Ste 131 Mesa AZ 85209 United States;X-APPLE-RADIUS=500;X-TITLE=7143 East Southern Avenue Ste 131:geo:-111.67687,33.392364
END:VEVENT
END:VCALENDAR