BEGIN:VCALENDAR
VERSION:2.0
PRODID:-//Lochiel Brewing - ECPv6.15.15//NONSGML v1.0//EN
CALSCALE:GREGORIAN
METHOD:PUBLISH
X-ORIGINAL-URL:https://lochielbrewing.com
X-WR-CALDESC:Events for Lochiel Brewing
REFRESH-INTERVAL;VALUE=DURATION:PT1H
X-Robots-Tag:noindex
X-PUBLISHED-TTL:PT1H
BEGIN:VTIMEZONE
TZID:America/Phoenix
BEGIN:STANDARD
TZOFFSETFROM:-0700
TZOFFSETTO:-0700
TZNAME:MST
DTSTART:20250101T000000
END:STANDARD
END:VTIMEZONE
BEGIN:VEVENT
DTSTART;TZID=America/Phoenix:20260827T150000
DTEND;TZID=America/Phoenix:20260827T200000
DTSTAMP:20260423T022513
CREATED:20241217T211729Z
LAST-MODIFIED:20260117T160405Z
UID:10001724-1787842800-1787860800@lochielbrewing.com
SUMMARY:Public Hours
DESCRIPTION:We will be open for in-person drinking. First come first serve. Please respect our rules set forth here: Acknowledgments and Agreement.
URL:https://lochielbrewing.com/schedule/thursday-friday-series-2-2-2/2026-08-27/
LOCATION:Lochiel Brewing\, 7143 East Southern Avenue Ste 131\, Mesa\, AZ\, 85209\, United States
ORGANIZER;CN="Lochiel Brewing":MAILTO:contact@lochielbrewing.com
GEO:33.392364;-111.67687
X-APPLE-STRUCTURED-LOCATION;VALUE=URI;X-ADDRESS=Lochiel Brewing 7143 East Southern Avenue Ste 131 Mesa AZ 85209 United States;X-APPLE-RADIUS=500;X-TITLE=7143 East Southern Avenue Ste 131:geo:-111.67687,33.392364
END:VEVENT
BEGIN:VEVENT
DTSTART;TZID=America/Phoenix:20260828T150000
DTEND;TZID=America/Phoenix:20260828T200000
DTSTAMP:20260423T022513
CREATED:20241217T211729Z
LAST-MODIFIED:20260117T160405Z
UID:10001725-1787929200-1787947200@lochielbrewing.com
SUMMARY:Public Hours
DESCRIPTION:We will be open for in-person drinking. First come first serve. Please respect our rules set forth here: Acknowledgments and Agreement.
URL:https://lochielbrewing.com/schedule/thursday-friday-series-2-2-2/2026-08-28/
LOCATION:Lochiel Brewing\, 7143 East Southern Avenue Ste 131\, Mesa\, AZ\, 85209\, United States
ORGANIZER;CN="Lochiel Brewing":MAILTO:contact@lochielbrewing.com
GEO:33.392364;-111.67687
X-APPLE-STRUCTURED-LOCATION;VALUE=URI;X-ADDRESS=Lochiel Brewing 7143 East Southern Avenue Ste 131 Mesa AZ 85209 United States;X-APPLE-RADIUS=500;X-TITLE=7143 East Southern Avenue Ste 131:geo:-111.67687,33.392364
END:VEVENT
BEGIN:VEVENT
DTSTART;TZID=America/Phoenix:20260829T130000
DTEND;TZID=America/Phoenix:20260829T200000
DTSTAMP:20260423T022513
CREATED:20230320T172002Z
LAST-MODIFIED:20250518T192326Z
UID:10001421-1788008400-1788033600@lochielbrewing.com
SUMMARY:Public Hours
DESCRIPTION:We will be open for in-person drinking. First come first serve. Please respect our rules set forth here: Acknowledgments and Agreement.
URL:https://lochielbrewing.com/schedule/saturday-series-2-2/2026-08-29/
LOCATION:Lochiel Brewing\, 7143 East Southern Avenue Ste 131\, Mesa\, AZ\, 85209\, United States
ORGANIZER;CN="Lochiel Brewing":MAILTO:contact@lochielbrewing.com
GEO:33.392364;-111.67687
X-APPLE-STRUCTURED-LOCATION;VALUE=URI;X-ADDRESS=Lochiel Brewing 7143 East Southern Avenue Ste 131 Mesa AZ 85209 United States;X-APPLE-RADIUS=500;X-TITLE=7143 East Southern Avenue Ste 131:geo:-111.67687,33.392364
END:VEVENT
BEGIN:VEVENT
DTSTART;TZID=America/Phoenix:20260830T140000
DTEND;TZID=America/Phoenix:20260830T190000
DTSTAMP:20260423T022513
CREATED:20240103T171302Z
LAST-MODIFIED:20250518T192429Z
UID:10001507-1788098400-1788116400@lochielbrewing.com
SUMMARY:Public Hours
DESCRIPTION:We will be open for in-person drinking. First come first serve. Please respect our rules set forth here: Acknowledgments and Agreement.
URL:https://lochielbrewing.com/schedule/sunday-series-2-2-2-2/2026-08-30/
LOCATION:Lochiel Brewing\, 7143 East Southern Avenue Ste 131\, Mesa\, AZ\, 85209\, United States
ORGANIZER;CN="Lochiel Brewing":MAILTO:contact@lochielbrewing.com
GEO:33.392364;-111.67687
X-APPLE-STRUCTURED-LOCATION;VALUE=URI;X-ADDRESS=Lochiel Brewing 7143 East Southern Avenue Ste 131 Mesa AZ 85209 United States;X-APPLE-RADIUS=500;X-TITLE=7143 East Southern Avenue Ste 131:geo:-111.67687,33.392364
END:VEVENT
BEGIN:VEVENT
DTSTART;TZID=America/Phoenix:20260831T150000
DTEND;TZID=America/Phoenix:20260831T200000
DTSTAMP:20260423T022513
CREATED:20241217T211729Z
LAST-MODIFIED:20260117T160405Z
UID:10001726-1788188400-1788206400@lochielbrewing.com
SUMMARY:Public Hours
DESCRIPTION:We will be open for in-person drinking. First come first serve. Please respect our rules set forth here: Acknowledgments and Agreement.
URL:https://lochielbrewing.com/schedule/thursday-friday-series-2-2-2/2026-08-31/
LOCATION:Lochiel Brewing\, 7143 East Southern Avenue Ste 131\, Mesa\, AZ\, 85209\, United States
ORGANIZER;CN="Lochiel Brewing":MAILTO:contact@lochielbrewing.com
GEO:33.392364;-111.67687
X-APPLE-STRUCTURED-LOCATION;VALUE=URI;X-ADDRESS=Lochiel Brewing 7143 East Southern Avenue Ste 131 Mesa AZ 85209 United States;X-APPLE-RADIUS=500;X-TITLE=7143 East Southern Avenue Ste 131:geo:-111.67687,33.392364
END:VEVENT
BEGIN:VEVENT
DTSTART;TZID=America/Phoenix:20260901T150000
DTEND;TZID=America/Phoenix:20260901T200000
DTSTAMP:20260423T022513
CREATED:20241217T211729Z
LAST-MODIFIED:20260117T160405Z
UID:10001727-1788274800-1788292800@lochielbrewing.com
SUMMARY:Public Hours
DESCRIPTION:We will be open for in-person drinking. First come first serve. Please respect our rules set forth here: Acknowledgments and Agreement.
URL:https://lochielbrewing.com/schedule/thursday-friday-series-2-2-2/2026-09-01/
LOCATION:Lochiel Brewing\, 7143 East Southern Avenue Ste 131\, Mesa\, AZ\, 85209\, United States
ORGANIZER;CN="Lochiel Brewing":MAILTO:contact@lochielbrewing.com
GEO:33.392364;-111.67687
X-APPLE-STRUCTURED-LOCATION;VALUE=URI;X-ADDRESS=Lochiel Brewing 7143 East Southern Avenue Ste 131 Mesa AZ 85209 United States;X-APPLE-RADIUS=500;X-TITLE=7143 East Southern Avenue Ste 131:geo:-111.67687,33.392364
END:VEVENT
BEGIN:VEVENT
DTSTART;TZID=America/Phoenix:20260902T150000
DTEND;TZID=America/Phoenix:20260902T200000
DTSTAMP:20260423T022513
CREATED:20241217T211729Z
LAST-MODIFIED:20260117T160405Z
UID:10001728-1788361200-1788379200@lochielbrewing.com
SUMMARY:Public Hours
DESCRIPTION:We will be open for in-person drinking. First come first serve. Please respect our rules set forth here: Acknowledgments and Agreement.
URL:https://lochielbrewing.com/schedule/thursday-friday-series-2-2-2/2026-09-02/
LOCATION:Lochiel Brewing\, 7143 East Southern Avenue Ste 131\, Mesa\, AZ\, 85209\, United States
ORGANIZER;CN="Lochiel Brewing":MAILTO:contact@lochielbrewing.com
GEO:33.392364;-111.67687
X-APPLE-STRUCTURED-LOCATION;VALUE=URI;X-ADDRESS=Lochiel Brewing 7143 East Southern Avenue Ste 131 Mesa AZ 85209 United States;X-APPLE-RADIUS=500;X-TITLE=7143 East Southern Avenue Ste 131:geo:-111.67687,33.392364
END:VEVENT
BEGIN:VEVENT
DTSTART;TZID=America/Phoenix:20260903T150000
DTEND;TZID=America/Phoenix:20260903T200000
DTSTAMP:20260423T022513
CREATED:20241217T211729Z
LAST-MODIFIED:20260117T160405Z
UID:10001729-1788447600-1788465600@lochielbrewing.com
SUMMARY:Public Hours
DESCRIPTION:We will be open for in-person drinking. First come first serve. Please respect our rules set forth here: Acknowledgments and Agreement.
URL:https://lochielbrewing.com/schedule/thursday-friday-series-2-2-2/2026-09-03/
LOCATION:Lochiel Brewing\, 7143 East Southern Avenue Ste 131\, Mesa\, AZ\, 85209\, United States
ORGANIZER;CN="Lochiel Brewing":MAILTO:contact@lochielbrewing.com
GEO:33.392364;-111.67687
X-APPLE-STRUCTURED-LOCATION;VALUE=URI;X-ADDRESS=Lochiel Brewing 7143 East Southern Avenue Ste 131 Mesa AZ 85209 United States;X-APPLE-RADIUS=500;X-TITLE=7143 East Southern Avenue Ste 131:geo:-111.67687,33.392364
END:VEVENT
BEGIN:VEVENT
DTSTART;TZID=America/Phoenix:20260904T150000
DTEND;TZID=America/Phoenix:20260904T200000
DTSTAMP:20260423T022513
CREATED:20241217T211729Z
LAST-MODIFIED:20260117T160405Z
UID:10001730-1788534000-1788552000@lochielbrewing.com
SUMMARY:Public Hours
DESCRIPTION:We will be open for in-person drinking. First come first serve. Please respect our rules set forth here: Acknowledgments and Agreement.
URL:https://lochielbrewing.com/schedule/thursday-friday-series-2-2-2/2026-09-04/
LOCATION:Lochiel Brewing\, 7143 East Southern Avenue Ste 131\, Mesa\, AZ\, 85209\, United States
ORGANIZER;CN="Lochiel Brewing":MAILTO:contact@lochielbrewing.com
GEO:33.392364;-111.67687
X-APPLE-STRUCTURED-LOCATION;VALUE=URI;X-ADDRESS=Lochiel Brewing 7143 East Southern Avenue Ste 131 Mesa AZ 85209 United States;X-APPLE-RADIUS=500;X-TITLE=7143 East Southern Avenue Ste 131:geo:-111.67687,33.392364
END:VEVENT
BEGIN:VEVENT
DTSTART;TZID=America/Phoenix:20260905T130000
DTEND;TZID=America/Phoenix:20260905T200000
DTSTAMP:20260423T022513
CREATED:20230320T172002Z
LAST-MODIFIED:20250518T192326Z
UID:10001422-1788613200-1788638400@lochielbrewing.com
SUMMARY:Public Hours
DESCRIPTION:We will be open for in-person drinking. First come first serve. Please respect our rules set forth here: Acknowledgments and Agreement.
URL:https://lochielbrewing.com/schedule/saturday-series-2-2/2026-09-05/
LOCATION:Lochiel Brewing\, 7143 East Southern Avenue Ste 131\, Mesa\, AZ\, 85209\, United States
ORGANIZER;CN="Lochiel Brewing":MAILTO:contact@lochielbrewing.com
GEO:33.392364;-111.67687
X-APPLE-STRUCTURED-LOCATION;VALUE=URI;X-ADDRESS=Lochiel Brewing 7143 East Southern Avenue Ste 131 Mesa AZ 85209 United States;X-APPLE-RADIUS=500;X-TITLE=7143 East Southern Avenue Ste 131:geo:-111.67687,33.392364
END:VEVENT
BEGIN:VEVENT
DTSTART;TZID=America/Phoenix:20260906T140000
DTEND;TZID=America/Phoenix:20260906T190000
DTSTAMP:20260423T022513
CREATED:20240103T171302Z
LAST-MODIFIED:20250518T192429Z
UID:10001508-1788703200-1788721200@lochielbrewing.com
SUMMARY:Public Hours
DESCRIPTION:We will be open for in-person drinking. First come first serve. Please respect our rules set forth here: Acknowledgments and Agreement.
URL:https://lochielbrewing.com/schedule/sunday-series-2-2-2-2/2026-09-06/
LOCATION:Lochiel Brewing\, 7143 East Southern Avenue Ste 131\, Mesa\, AZ\, 85209\, United States
ORGANIZER;CN="Lochiel Brewing":MAILTO:contact@lochielbrewing.com
GEO:33.392364;-111.67687
X-APPLE-STRUCTURED-LOCATION;VALUE=URI;X-ADDRESS=Lochiel Brewing 7143 East Southern Avenue Ste 131 Mesa AZ 85209 United States;X-APPLE-RADIUS=500;X-TITLE=7143 East Southern Avenue Ste 131:geo:-111.67687,33.392364
END:VEVENT
BEGIN:VEVENT
DTSTART;TZID=America/Phoenix:20260907T150000
DTEND;TZID=America/Phoenix:20260907T200000
DTSTAMP:20260423T022513
CREATED:20241217T211729Z
LAST-MODIFIED:20260117T160405Z
UID:10001731-1788793200-1788811200@lochielbrewing.com
SUMMARY:Public Hours
DESCRIPTION:We will be open for in-person drinking. First come first serve. Please respect our rules set forth here: Acknowledgments and Agreement.
URL:https://lochielbrewing.com/schedule/thursday-friday-series-2-2-2/2026-09-07/
LOCATION:Lochiel Brewing\, 7143 East Southern Avenue Ste 131\, Mesa\, AZ\, 85209\, United States
ORGANIZER;CN="Lochiel Brewing":MAILTO:contact@lochielbrewing.com
GEO:33.392364;-111.67687
X-APPLE-STRUCTURED-LOCATION;VALUE=URI;X-ADDRESS=Lochiel Brewing 7143 East Southern Avenue Ste 131 Mesa AZ 85209 United States;X-APPLE-RADIUS=500;X-TITLE=7143 East Southern Avenue Ste 131:geo:-111.67687,33.392364
END:VEVENT
BEGIN:VEVENT
DTSTART;TZID=America/Phoenix:20260908T150000
DTEND;TZID=America/Phoenix:20260908T200000
DTSTAMP:20260423T022513
CREATED:20241217T211729Z
LAST-MODIFIED:20260117T160405Z
UID:10001732-1788879600-1788897600@lochielbrewing.com
SUMMARY:Public Hours
DESCRIPTION:We will be open for in-person drinking. First come first serve. Please respect our rules set forth here: Acknowledgments and Agreement.
URL:https://lochielbrewing.com/schedule/thursday-friday-series-2-2-2/2026-09-08/
LOCATION:Lochiel Brewing\, 7143 East Southern Avenue Ste 131\, Mesa\, AZ\, 85209\, United States
ORGANIZER;CN="Lochiel Brewing":MAILTO:contact@lochielbrewing.com
GEO:33.392364;-111.67687
X-APPLE-STRUCTURED-LOCATION;VALUE=URI;X-ADDRESS=Lochiel Brewing 7143 East Southern Avenue Ste 131 Mesa AZ 85209 United States;X-APPLE-RADIUS=500;X-TITLE=7143 East Southern Avenue Ste 131:geo:-111.67687,33.392364
END:VEVENT
BEGIN:VEVENT
DTSTART;TZID=America/Phoenix:20260909T150000
DTEND;TZID=America/Phoenix:20260909T200000
DTSTAMP:20260423T022513
CREATED:20241217T211729Z
LAST-MODIFIED:20260117T160405Z
UID:10001733-1788966000-1788984000@lochielbrewing.com
SUMMARY:Public Hours
DESCRIPTION:We will be open for in-person drinking. First come first serve. Please respect our rules set forth here: Acknowledgments and Agreement.
URL:https://lochielbrewing.com/schedule/thursday-friday-series-2-2-2/2026-09-09/
LOCATION:Lochiel Brewing\, 7143 East Southern Avenue Ste 131\, Mesa\, AZ\, 85209\, United States
ORGANIZER;CN="Lochiel Brewing":MAILTO:contact@lochielbrewing.com
GEO:33.392364;-111.67687
X-APPLE-STRUCTURED-LOCATION;VALUE=URI;X-ADDRESS=Lochiel Brewing 7143 East Southern Avenue Ste 131 Mesa AZ 85209 United States;X-APPLE-RADIUS=500;X-TITLE=7143 East Southern Avenue Ste 131:geo:-111.67687,33.392364
END:VEVENT
BEGIN:VEVENT
DTSTART;TZID=America/Phoenix:20260910T150000
DTEND;TZID=America/Phoenix:20260910T200000
DTSTAMP:20260423T022513
CREATED:20241217T211729Z
LAST-MODIFIED:20260117T160405Z
UID:10001734-1789052400-1789070400@lochielbrewing.com
SUMMARY:Public Hours
DESCRIPTION:We will be open for in-person drinking. First come first serve. Please respect our rules set forth here: Acknowledgments and Agreement.
URL:https://lochielbrewing.com/schedule/thursday-friday-series-2-2-2/2026-09-10/
LOCATION:Lochiel Brewing\, 7143 East Southern Avenue Ste 131\, Mesa\, AZ\, 85209\, United States
ORGANIZER;CN="Lochiel Brewing":MAILTO:contact@lochielbrewing.com
GEO:33.392364;-111.67687
X-APPLE-STRUCTURED-LOCATION;VALUE=URI;X-ADDRESS=Lochiel Brewing 7143 East Southern Avenue Ste 131 Mesa AZ 85209 United States;X-APPLE-RADIUS=500;X-TITLE=7143 East Southern Avenue Ste 131:geo:-111.67687,33.392364
END:VEVENT
BEGIN:VEVENT
DTSTART;TZID=America/Phoenix:20260911T150000
DTEND;TZID=America/Phoenix:20260911T200000
DTSTAMP:20260423T022513
CREATED:20241217T211729Z
LAST-MODIFIED:20260117T160405Z
UID:10001735-1789138800-1789156800@lochielbrewing.com
SUMMARY:Public Hours
DESCRIPTION:We will be open for in-person drinking. First come first serve. Please respect our rules set forth here: Acknowledgments and Agreement.
URL:https://lochielbrewing.com/schedule/thursday-friday-series-2-2-2/2026-09-11/
LOCATION:Lochiel Brewing\, 7143 East Southern Avenue Ste 131\, Mesa\, AZ\, 85209\, United States
ORGANIZER;CN="Lochiel Brewing":MAILTO:contact@lochielbrewing.com
GEO:33.392364;-111.67687
X-APPLE-STRUCTURED-LOCATION;VALUE=URI;X-ADDRESS=Lochiel Brewing 7143 East Southern Avenue Ste 131 Mesa AZ 85209 United States;X-APPLE-RADIUS=500;X-TITLE=7143 East Southern Avenue Ste 131:geo:-111.67687,33.392364
END:VEVENT
BEGIN:VEVENT
DTSTART;TZID=America/Phoenix:20260912T130000
DTEND;TZID=America/Phoenix:20260912T200000
DTSTAMP:20260423T022513
CREATED:20230320T172002Z
LAST-MODIFIED:20250518T192326Z
UID:10001423-1789218000-1789243200@lochielbrewing.com
SUMMARY:Public Hours
DESCRIPTION:We will be open for in-person drinking. First come first serve. Please respect our rules set forth here: Acknowledgments and Agreement.
URL:https://lochielbrewing.com/schedule/saturday-series-2-2/2026-09-12/
LOCATION:Lochiel Brewing\, 7143 East Southern Avenue Ste 131\, Mesa\, AZ\, 85209\, United States
ORGANIZER;CN="Lochiel Brewing":MAILTO:contact@lochielbrewing.com
GEO:33.392364;-111.67687
X-APPLE-STRUCTURED-LOCATION;VALUE=URI;X-ADDRESS=Lochiel Brewing 7143 East Southern Avenue Ste 131 Mesa AZ 85209 United States;X-APPLE-RADIUS=500;X-TITLE=7143 East Southern Avenue Ste 131:geo:-111.67687,33.392364
END:VEVENT
BEGIN:VEVENT
DTSTART;TZID=America/Phoenix:20260913T140000
DTEND;TZID=America/Phoenix:20260913T190000
DTSTAMP:20260423T022513
CREATED:20240103T171302Z
LAST-MODIFIED:20250518T192429Z
UID:10001509-1789308000-1789326000@lochielbrewing.com
SUMMARY:Public Hours
DESCRIPTION:We will be open for in-person drinking. First come first serve. Please respect our rules set forth here: Acknowledgments and Agreement.
URL:https://lochielbrewing.com/schedule/sunday-series-2-2-2-2/2026-09-13/
LOCATION:Lochiel Brewing\, 7143 East Southern Avenue Ste 131\, Mesa\, AZ\, 85209\, United States
ORGANIZER;CN="Lochiel Brewing":MAILTO:contact@lochielbrewing.com
GEO:33.392364;-111.67687
X-APPLE-STRUCTURED-LOCATION;VALUE=URI;X-ADDRESS=Lochiel Brewing 7143 East Southern Avenue Ste 131 Mesa AZ 85209 United States;X-APPLE-RADIUS=500;X-TITLE=7143 East Southern Avenue Ste 131:geo:-111.67687,33.392364
END:VEVENT
BEGIN:VEVENT
DTSTART;TZID=America/Phoenix:20260914T150000
DTEND;TZID=America/Phoenix:20260914T200000
DTSTAMP:20260423T022513
CREATED:20241217T211729Z
LAST-MODIFIED:20260117T160405Z
UID:10001736-1789398000-1789416000@lochielbrewing.com
SUMMARY:Public Hours
DESCRIPTION:We will be open for in-person drinking. First come first serve. Please respect our rules set forth here: Acknowledgments and Agreement.
URL:https://lochielbrewing.com/schedule/thursday-friday-series-2-2-2/2026-09-14/
LOCATION:Lochiel Brewing\, 7143 East Southern Avenue Ste 131\, Mesa\, AZ\, 85209\, United States
ORGANIZER;CN="Lochiel Brewing":MAILTO:contact@lochielbrewing.com
GEO:33.392364;-111.67687
X-APPLE-STRUCTURED-LOCATION;VALUE=URI;X-ADDRESS=Lochiel Brewing 7143 East Southern Avenue Ste 131 Mesa AZ 85209 United States;X-APPLE-RADIUS=500;X-TITLE=7143 East Southern Avenue Ste 131:geo:-111.67687,33.392364
END:VEVENT
BEGIN:VEVENT
DTSTART;TZID=America/Phoenix:20260915T150000
DTEND;TZID=America/Phoenix:20260915T200000
DTSTAMP:20260423T022513
CREATED:20241217T211729Z
LAST-MODIFIED:20260117T160405Z
UID:10001737-1789484400-1789502400@lochielbrewing.com
SUMMARY:Public Hours
DESCRIPTION:We will be open for in-person drinking. First come first serve. Please respect our rules set forth here: Acknowledgments and Agreement.
URL:https://lochielbrewing.com/schedule/thursday-friday-series-2-2-2/2026-09-15/
LOCATION:Lochiel Brewing\, 7143 East Southern Avenue Ste 131\, Mesa\, AZ\, 85209\, United States
ORGANIZER;CN="Lochiel Brewing":MAILTO:contact@lochielbrewing.com
GEO:33.392364;-111.67687
X-APPLE-STRUCTURED-LOCATION;VALUE=URI;X-ADDRESS=Lochiel Brewing 7143 East Southern Avenue Ste 131 Mesa AZ 85209 United States;X-APPLE-RADIUS=500;X-TITLE=7143 East Southern Avenue Ste 131:geo:-111.67687,33.392364
END:VEVENT
BEGIN:VEVENT
DTSTART;TZID=America/Phoenix:20260916T150000
DTEND;TZID=America/Phoenix:20260916T200000
DTSTAMP:20260423T022513
CREATED:20241217T211729Z
LAST-MODIFIED:20260117T160405Z
UID:10001738-1789570800-1789588800@lochielbrewing.com
SUMMARY:Public Hours
DESCRIPTION:We will be open for in-person drinking. First come first serve. Please respect our rules set forth here: Acknowledgments and Agreement.
URL:https://lochielbrewing.com/schedule/thursday-friday-series-2-2-2/2026-09-16/
LOCATION:Lochiel Brewing\, 7143 East Southern Avenue Ste 131\, Mesa\, AZ\, 85209\, United States
ORGANIZER;CN="Lochiel Brewing":MAILTO:contact@lochielbrewing.com
GEO:33.392364;-111.67687
X-APPLE-STRUCTURED-LOCATION;VALUE=URI;X-ADDRESS=Lochiel Brewing 7143 East Southern Avenue Ste 131 Mesa AZ 85209 United States;X-APPLE-RADIUS=500;X-TITLE=7143 East Southern Avenue Ste 131:geo:-111.67687,33.392364
END:VEVENT
BEGIN:VEVENT
DTSTART;TZID=America/Phoenix:20260917T150000
DTEND;TZID=America/Phoenix:20260917T200000
DTSTAMP:20260423T022513
CREATED:20241217T211729Z
LAST-MODIFIED:20260117T160405Z
UID:10001739-1789657200-1789675200@lochielbrewing.com
SUMMARY:Public Hours
DESCRIPTION:We will be open for in-person drinking. First come first serve. Please respect our rules set forth here: Acknowledgments and Agreement.
URL:https://lochielbrewing.com/schedule/thursday-friday-series-2-2-2/2026-09-17/
LOCATION:Lochiel Brewing\, 7143 East Southern Avenue Ste 131\, Mesa\, AZ\, 85209\, United States
ORGANIZER;CN="Lochiel Brewing":MAILTO:contact@lochielbrewing.com
GEO:33.392364;-111.67687
X-APPLE-STRUCTURED-LOCATION;VALUE=URI;X-ADDRESS=Lochiel Brewing 7143 East Southern Avenue Ste 131 Mesa AZ 85209 United States;X-APPLE-RADIUS=500;X-TITLE=7143 East Southern Avenue Ste 131:geo:-111.67687,33.392364
END:VEVENT
BEGIN:VEVENT
DTSTART;TZID=America/Phoenix:20260918T150000
DTEND;TZID=America/Phoenix:20260918T200000
DTSTAMP:20260423T022513
CREATED:20241217T211729Z
LAST-MODIFIED:20260117T160405Z
UID:10001740-1789743600-1789761600@lochielbrewing.com
SUMMARY:Public Hours
DESCRIPTION:We will be open for in-person drinking. First come first serve. Please respect our rules set forth here: Acknowledgments and Agreement.
URL:https://lochielbrewing.com/schedule/thursday-friday-series-2-2-2/2026-09-18/
LOCATION:Lochiel Brewing\, 7143 East Southern Avenue Ste 131\, Mesa\, AZ\, 85209\, United States
ORGANIZER;CN="Lochiel Brewing":MAILTO:contact@lochielbrewing.com
GEO:33.392364;-111.67687
X-APPLE-STRUCTURED-LOCATION;VALUE=URI;X-ADDRESS=Lochiel Brewing 7143 East Southern Avenue Ste 131 Mesa AZ 85209 United States;X-APPLE-RADIUS=500;X-TITLE=7143 East Southern Avenue Ste 131:geo:-111.67687,33.392364
END:VEVENT
BEGIN:VEVENT
DTSTART;TZID=America/Phoenix:20260919T130000
DTEND;TZID=America/Phoenix:20260919T200000
DTSTAMP:20260423T022513
CREATED:20230320T172002Z
LAST-MODIFIED:20250518T192326Z
UID:10001424-1789822800-1789848000@lochielbrewing.com
SUMMARY:Public Hours
DESCRIPTION:We will be open for in-person drinking. First come first serve. Please respect our rules set forth here: Acknowledgments and Agreement.
URL:https://lochielbrewing.com/schedule/saturday-series-2-2/2026-09-19/
LOCATION:Lochiel Brewing\, 7143 East Southern Avenue Ste 131\, Mesa\, AZ\, 85209\, United States
ORGANIZER;CN="Lochiel Brewing":MAILTO:contact@lochielbrewing.com
GEO:33.392364;-111.67687
X-APPLE-STRUCTURED-LOCATION;VALUE=URI;X-ADDRESS=Lochiel Brewing 7143 East Southern Avenue Ste 131 Mesa AZ 85209 United States;X-APPLE-RADIUS=500;X-TITLE=7143 East Southern Avenue Ste 131:geo:-111.67687,33.392364
END:VEVENT
BEGIN:VEVENT
DTSTART;TZID=America/Phoenix:20260920T140000
DTEND;TZID=America/Phoenix:20260920T190000
DTSTAMP:20260423T022513
CREATED:20240103T171302Z
LAST-MODIFIED:20250518T192429Z
UID:10001510-1789912800-1789930800@lochielbrewing.com
SUMMARY:Public Hours
DESCRIPTION:We will be open for in-person drinking. First come first serve. Please respect our rules set forth here: Acknowledgments and Agreement.
URL:https://lochielbrewing.com/schedule/sunday-series-2-2-2-2/2026-09-20/
LOCATION:Lochiel Brewing\, 7143 East Southern Avenue Ste 131\, Mesa\, AZ\, 85209\, United States
ORGANIZER;CN="Lochiel Brewing":MAILTO:contact@lochielbrewing.com
GEO:33.392364;-111.67687
X-APPLE-STRUCTURED-LOCATION;VALUE=URI;X-ADDRESS=Lochiel Brewing 7143 East Southern Avenue Ste 131 Mesa AZ 85209 United States;X-APPLE-RADIUS=500;X-TITLE=7143 East Southern Avenue Ste 131:geo:-111.67687,33.392364
END:VEVENT
BEGIN:VEVENT
DTSTART;TZID=America/Phoenix:20260921T150000
DTEND;TZID=America/Phoenix:20260921T200000
DTSTAMP:20260423T022513
CREATED:20241217T211729Z
LAST-MODIFIED:20260117T160405Z
UID:10001741-1790002800-1790020800@lochielbrewing.com
SUMMARY:Public Hours
DESCRIPTION:We will be open for in-person drinking. First come first serve. Please respect our rules set forth here: Acknowledgments and Agreement.
URL:https://lochielbrewing.com/schedule/thursday-friday-series-2-2-2/2026-09-21/
LOCATION:Lochiel Brewing\, 7143 East Southern Avenue Ste 131\, Mesa\, AZ\, 85209\, United States
ORGANIZER;CN="Lochiel Brewing":MAILTO:contact@lochielbrewing.com
GEO:33.392364;-111.67687
X-APPLE-STRUCTURED-LOCATION;VALUE=URI;X-ADDRESS=Lochiel Brewing 7143 East Southern Avenue Ste 131 Mesa AZ 85209 United States;X-APPLE-RADIUS=500;X-TITLE=7143 East Southern Avenue Ste 131:geo:-111.67687,33.392364
END:VEVENT
BEGIN:VEVENT
DTSTART;TZID=America/Phoenix:20260922T150000
DTEND;TZID=America/Phoenix:20260922T200000
DTSTAMP:20260423T022513
CREATED:20241217T211729Z
LAST-MODIFIED:20260117T160405Z
UID:10001742-1790089200-1790107200@lochielbrewing.com
SUMMARY:Public Hours
DESCRIPTION:We will be open for in-person drinking. First come first serve. Please respect our rules set forth here: Acknowledgments and Agreement.
URL:https://lochielbrewing.com/schedule/thursday-friday-series-2-2-2/2026-09-22/
LOCATION:Lochiel Brewing\, 7143 East Southern Avenue Ste 131\, Mesa\, AZ\, 85209\, United States
ORGANIZER;CN="Lochiel Brewing":MAILTO:contact@lochielbrewing.com
GEO:33.392364;-111.67687
X-APPLE-STRUCTURED-LOCATION;VALUE=URI;X-ADDRESS=Lochiel Brewing 7143 East Southern Avenue Ste 131 Mesa AZ 85209 United States;X-APPLE-RADIUS=500;X-TITLE=7143 East Southern Avenue Ste 131:geo:-111.67687,33.392364
END:VEVENT
BEGIN:VEVENT
DTSTART;TZID=America/Phoenix:20260923T150000
DTEND;TZID=America/Phoenix:20260923T200000
DTSTAMP:20260423T022513
CREATED:20241217T211729Z
LAST-MODIFIED:20260117T160405Z
UID:10001743-1790175600-1790193600@lochielbrewing.com
SUMMARY:Public Hours
DESCRIPTION:We will be open for in-person drinking. First come first serve. Please respect our rules set forth here: Acknowledgments and Agreement.
URL:https://lochielbrewing.com/schedule/thursday-friday-series-2-2-2/2026-09-23/
LOCATION:Lochiel Brewing\, 7143 East Southern Avenue Ste 131\, Mesa\, AZ\, 85209\, United States
ORGANIZER;CN="Lochiel Brewing":MAILTO:contact@lochielbrewing.com
GEO:33.392364;-111.67687
X-APPLE-STRUCTURED-LOCATION;VALUE=URI;X-ADDRESS=Lochiel Brewing 7143 East Southern Avenue Ste 131 Mesa AZ 85209 United States;X-APPLE-RADIUS=500;X-TITLE=7143 East Southern Avenue Ste 131:geo:-111.67687,33.392364
END:VEVENT
BEGIN:VEVENT
DTSTART;TZID=America/Phoenix:20260924T150000
DTEND;TZID=America/Phoenix:20260924T200000
DTSTAMP:20260423T022513
CREATED:20241217T211729Z
LAST-MODIFIED:20260117T160405Z
UID:10001744-1790262000-1790280000@lochielbrewing.com
SUMMARY:Public Hours
DESCRIPTION:We will be open for in-person drinking. First come first serve. Please respect our rules set forth here: Acknowledgments and Agreement.
URL:https://lochielbrewing.com/schedule/thursday-friday-series-2-2-2/2026-09-24/
LOCATION:Lochiel Brewing\, 7143 East Southern Avenue Ste 131\, Mesa\, AZ\, 85209\, United States
ORGANIZER;CN="Lochiel Brewing":MAILTO:contact@lochielbrewing.com
GEO:33.392364;-111.67687
X-APPLE-STRUCTURED-LOCATION;VALUE=URI;X-ADDRESS=Lochiel Brewing 7143 East Southern Avenue Ste 131 Mesa AZ 85209 United States;X-APPLE-RADIUS=500;X-TITLE=7143 East Southern Avenue Ste 131:geo:-111.67687,33.392364
END:VEVENT
BEGIN:VEVENT
DTSTART;TZID=America/Phoenix:20260925T150000
DTEND;TZID=America/Phoenix:20260925T200000
DTSTAMP:20260423T022513
CREATED:20241217T211729Z
LAST-MODIFIED:20260117T160405Z
UID:10001745-1790348400-1790366400@lochielbrewing.com
SUMMARY:Public Hours
DESCRIPTION:We will be open for in-person drinking. First come first serve. Please respect our rules set forth here: Acknowledgments and Agreement.
URL:https://lochielbrewing.com/schedule/thursday-friday-series-2-2-2/2026-09-25/
LOCATION:Lochiel Brewing\, 7143 East Southern Avenue Ste 131\, Mesa\, AZ\, 85209\, United States
ORGANIZER;CN="Lochiel Brewing":MAILTO:contact@lochielbrewing.com
GEO:33.392364;-111.67687
X-APPLE-STRUCTURED-LOCATION;VALUE=URI;X-ADDRESS=Lochiel Brewing 7143 East Southern Avenue Ste 131 Mesa AZ 85209 United States;X-APPLE-RADIUS=500;X-TITLE=7143 East Southern Avenue Ste 131:geo:-111.67687,33.392364
END:VEVENT
END:VCALENDAR