BEGIN:VCALENDAR
VERSION:2.0
PRODID:-//Lochiel Brewing - ECPv6.15.15//NONSGML v1.0//EN
CALSCALE:GREGORIAN
METHOD:PUBLISH
X-WR-CALNAME:Lochiel Brewing
X-ORIGINAL-URL:https://lochielbrewing.com
X-WR-CALDESC:Events for Lochiel Brewing
REFRESH-INTERVAL;VALUE=DURATION:PT1H
X-Robots-Tag:noindex
X-PUBLISHED-TTL:PT1H
BEGIN:VTIMEZONE
TZID:America/Phoenix
BEGIN:STANDARD
TZOFFSETFROM:-0700
TZOFFSETTO:-0700
TZNAME:MST
DTSTART:20250101T000000
END:STANDARD
END:VTIMEZONE
BEGIN:VEVENT
DTSTART;TZID=America/Phoenix:20260913T140000
DTEND;TZID=America/Phoenix:20260913T190000
DTSTAMP:20260423T021126
CREATED:20240103T171302Z
LAST-MODIFIED:20250518T192429Z
UID:10001509-1789308000-1789326000@lochielbrewing.com
SUMMARY:Public Hours
DESCRIPTION:We will be open for in-person drinking. First come first serve. Please respect our rules set forth here: Acknowledgments and Agreement.
URL:https://lochielbrewing.com/schedule/sunday-series-2-2-2-2/2026-09-13/
LOCATION:Lochiel Brewing\, 7143 East Southern Avenue Ste 131\, Mesa\, AZ\, 85209\, United States
ORGANIZER;CN="Lochiel Brewing":MAILTO:contact@lochielbrewing.com
GEO:33.392364;-111.67687
X-APPLE-STRUCTURED-LOCATION;VALUE=URI;X-ADDRESS=Lochiel Brewing 7143 East Southern Avenue Ste 131 Mesa AZ 85209 United States;X-APPLE-RADIUS=500;X-TITLE=7143 East Southern Avenue Ste 131:geo:-111.67687,33.392364
END:VEVENT
BEGIN:VEVENT
DTSTART;TZID=America/Phoenix:20260914T150000
DTEND;TZID=America/Phoenix:20260914T200000
DTSTAMP:20260423T021126
CREATED:20241217T211729Z
LAST-MODIFIED:20260117T160405Z
UID:10001736-1789398000-1789416000@lochielbrewing.com
SUMMARY:Public Hours
DESCRIPTION:We will be open for in-person drinking. First come first serve. Please respect our rules set forth here: Acknowledgments and Agreement.
URL:https://lochielbrewing.com/schedule/thursday-friday-series-2-2-2/2026-09-14/
LOCATION:Lochiel Brewing\, 7143 East Southern Avenue Ste 131\, Mesa\, AZ\, 85209\, United States
ORGANIZER;CN="Lochiel Brewing":MAILTO:contact@lochielbrewing.com
GEO:33.392364;-111.67687
X-APPLE-STRUCTURED-LOCATION;VALUE=URI;X-ADDRESS=Lochiel Brewing 7143 East Southern Avenue Ste 131 Mesa AZ 85209 United States;X-APPLE-RADIUS=500;X-TITLE=7143 East Southern Avenue Ste 131:geo:-111.67687,33.392364
END:VEVENT
BEGIN:VEVENT
DTSTART;TZID=America/Phoenix:20260915T150000
DTEND;TZID=America/Phoenix:20260915T200000
DTSTAMP:20260423T021126
CREATED:20241217T211729Z
LAST-MODIFIED:20260117T160405Z
UID:10001737-1789484400-1789502400@lochielbrewing.com
SUMMARY:Public Hours
DESCRIPTION:We will be open for in-person drinking. First come first serve. Please respect our rules set forth here: Acknowledgments and Agreement.
URL:https://lochielbrewing.com/schedule/thursday-friday-series-2-2-2/2026-09-15/
LOCATION:Lochiel Brewing\, 7143 East Southern Avenue Ste 131\, Mesa\, AZ\, 85209\, United States
ORGANIZER;CN="Lochiel Brewing":MAILTO:contact@lochielbrewing.com
GEO:33.392364;-111.67687
X-APPLE-STRUCTURED-LOCATION;VALUE=URI;X-ADDRESS=Lochiel Brewing 7143 East Southern Avenue Ste 131 Mesa AZ 85209 United States;X-APPLE-RADIUS=500;X-TITLE=7143 East Southern Avenue Ste 131:geo:-111.67687,33.392364
END:VEVENT
BEGIN:VEVENT
DTSTART;TZID=America/Phoenix:20260916T150000
DTEND;TZID=America/Phoenix:20260916T200000
DTSTAMP:20260423T021126
CREATED:20241217T211729Z
LAST-MODIFIED:20260117T160405Z
UID:10001738-1789570800-1789588800@lochielbrewing.com
SUMMARY:Public Hours
DESCRIPTION:We will be open for in-person drinking. First come first serve. Please respect our rules set forth here: Acknowledgments and Agreement.
URL:https://lochielbrewing.com/schedule/thursday-friday-series-2-2-2/2026-09-16/
LOCATION:Lochiel Brewing\, 7143 East Southern Avenue Ste 131\, Mesa\, AZ\, 85209\, United States
ORGANIZER;CN="Lochiel Brewing":MAILTO:contact@lochielbrewing.com
GEO:33.392364;-111.67687
X-APPLE-STRUCTURED-LOCATION;VALUE=URI;X-ADDRESS=Lochiel Brewing 7143 East Southern Avenue Ste 131 Mesa AZ 85209 United States;X-APPLE-RADIUS=500;X-TITLE=7143 East Southern Avenue Ste 131:geo:-111.67687,33.392364
END:VEVENT
BEGIN:VEVENT
DTSTART;TZID=America/Phoenix:20260917T150000
DTEND;TZID=America/Phoenix:20260917T200000
DTSTAMP:20260423T021126
CREATED:20241217T211729Z
LAST-MODIFIED:20260117T160405Z
UID:10001739-1789657200-1789675200@lochielbrewing.com
SUMMARY:Public Hours
DESCRIPTION:We will be open for in-person drinking. First come first serve. Please respect our rules set forth here: Acknowledgments and Agreement.
URL:https://lochielbrewing.com/schedule/thursday-friday-series-2-2-2/2026-09-17/
LOCATION:Lochiel Brewing\, 7143 East Southern Avenue Ste 131\, Mesa\, AZ\, 85209\, United States
ORGANIZER;CN="Lochiel Brewing":MAILTO:contact@lochielbrewing.com
GEO:33.392364;-111.67687
X-APPLE-STRUCTURED-LOCATION;VALUE=URI;X-ADDRESS=Lochiel Brewing 7143 East Southern Avenue Ste 131 Mesa AZ 85209 United States;X-APPLE-RADIUS=500;X-TITLE=7143 East Southern Avenue Ste 131:geo:-111.67687,33.392364
END:VEVENT
BEGIN:VEVENT
DTSTART;TZID=America/Phoenix:20260918T150000
DTEND;TZID=America/Phoenix:20260918T200000
DTSTAMP:20260423T021126
CREATED:20241217T211729Z
LAST-MODIFIED:20260117T160405Z
UID:10001740-1789743600-1789761600@lochielbrewing.com
SUMMARY:Public Hours
DESCRIPTION:We will be open for in-person drinking. First come first serve. Please respect our rules set forth here: Acknowledgments and Agreement.
URL:https://lochielbrewing.com/schedule/thursday-friday-series-2-2-2/2026-09-18/
LOCATION:Lochiel Brewing\, 7143 East Southern Avenue Ste 131\, Mesa\, AZ\, 85209\, United States
ORGANIZER;CN="Lochiel Brewing":MAILTO:contact@lochielbrewing.com
GEO:33.392364;-111.67687
X-APPLE-STRUCTURED-LOCATION;VALUE=URI;X-ADDRESS=Lochiel Brewing 7143 East Southern Avenue Ste 131 Mesa AZ 85209 United States;X-APPLE-RADIUS=500;X-TITLE=7143 East Southern Avenue Ste 131:geo:-111.67687,33.392364
END:VEVENT
BEGIN:VEVENT
DTSTART;TZID=America/Phoenix:20260919T130000
DTEND;TZID=America/Phoenix:20260919T200000
DTSTAMP:20260423T021126
CREATED:20230320T172002Z
LAST-MODIFIED:20250518T192326Z
UID:10001424-1789822800-1789848000@lochielbrewing.com
SUMMARY:Public Hours
DESCRIPTION:We will be open for in-person drinking. First come first serve. Please respect our rules set forth here: Acknowledgments and Agreement.
URL:https://lochielbrewing.com/schedule/saturday-series-2-2/2026-09-19/
LOCATION:Lochiel Brewing\, 7143 East Southern Avenue Ste 131\, Mesa\, AZ\, 85209\, United States
ORGANIZER;CN="Lochiel Brewing":MAILTO:contact@lochielbrewing.com
GEO:33.392364;-111.67687
X-APPLE-STRUCTURED-LOCATION;VALUE=URI;X-ADDRESS=Lochiel Brewing 7143 East Southern Avenue Ste 131 Mesa AZ 85209 United States;X-APPLE-RADIUS=500;X-TITLE=7143 East Southern Avenue Ste 131:geo:-111.67687,33.392364
END:VEVENT
END:VCALENDAR